BEGIN:VCALENDAR
VERSION:2.0
PRODID:-//TYPO3/NONSGML News system (news)//EN
BEGIN:VEVENT
UID:news-3998@www.limoges-metropole.fr
DTSTAMP:20260417T154650
DTSTART:20260522T000000
DTEND:20260604T000000
SUMMARY:3e édition de Capture The Flag  "MEDILEAK"
CATEGORIES:Limoges Métropole
DESCRIPTION:Limoges Métropole reconduit un Capture The Flag (CTF), une 
 compétition virtuelle du 22 mai au 4 juin 2026, dédiée à 
 la sécurité des données, s'adressant aux associations, 
 particuliers, entreprises privées ou collectivités.
END:VEVENT
END:VCALENDAR