BEGIN:VCALENDAR
VERSION:2.0
PRODID:-//TYPO3/NONSGML News system (news)//EN
BEGIN:VEVENT
UID:news-514382@www.limoges-metropole.fr
DTSTAMP:20260420T112749
DTSTART:20260514T000000
DTEND:20260516T000000
SUMMARY:Championnat de France Para Football adapté à 5 et à 7 à Limoges 
CATEGORIES:
DESCRIPTION:Le Championnat de France Para Football adapté 2026 arrive 
 à Limoges du 14 au 17 mai 2026.
END:VEVENT
END:VCALENDAR