BEGIN:VCALENDAR
VERSION:2.0
PRODID:-//TYPO3/NONSGML News system (news)//EN
BEGIN:VEVENT
UID:news-11405@www.limoges-metropole.fr
DTSTAMP:20260413T143445
DTSTART:20260606T200000
DTEND:20260606T000000
SUMMARY:Concert "Les année 80"
CATEGORIES:Grands Équipements, Musique
DESCRIPTION:Les années 80 débarquent au Zénith de Limoges Métropole 
 pour une soirée pleine de souvenirs et de tubes cultes le 6 
 juin 2026. 
END:VEVENT
END:VCALENDAR