BEGIN:VCALENDAR
VERSION:2.0
PRODID:-//TYPO3/NONSGML News system (news)//EN
BEGIN:VEVENT
UID:news-4521@www.limoges-metropole.fr
DTSTAMP:20260414T084825
DTSTART:20260621T170000
DTEND:20260621T000000
SUMMARY:Kendji Girac en tournée
CATEGORIES:Grands Équipements, Musique
DESCRIPTION:Kenji Girac qui célébre une décennie de succès à 
 travers sa tournée anniversaire, fait étape au Zénith de 
 Limoges Métropole le 21 juin 2026.
END:VEVENT
END:VCALENDAR