BEGIN:VCALENDAR
VERSION:2.0
PRODID:-//TYPO3/NONSGML News system (news)//EN
BEGIN:VEVENT
UID:news-3845@www.limoges-metropole.fr
DTSTAMP:20260413T134827
DTSTART:20260513T000000
DTEND:20260516T000000
SUMMARY:Les Veyracomusies 2026
CATEGORIES:Partenariat
DESCRIPTION:Pour cette 38ème édition, le festival des VEYRACOMUSIES 
 propose une nouvelle fois une programmation éclectique et 
 intergénérationnelle accessible à tous  pour le weed-end 
 de l'Ascensiondu 13 au 16 mai 2026.
END:VEVENT
END:VCALENDAR