BEGIN:VCALENDAR
VERSION:2.0
PRODID:-//TYPO3/NONSGML News system (news)//EN
BEGIN:VEVENT
UID:news-1351@www.limoges-metropole.fr
DTSTAMP:20260423T113441
DTSTART:20260508T100000
DTEND:20260508T170000
SUMMARY:Manche piste de la coupe de France Grand Sud Ouest 2026
CATEGORIES:Grands Équipements, Sport
DESCRIPTION:Le vélodrome Raymond Poulidor accueille la coupe de France 
 pour les catégories U15/U17 filles et U17 garçons des 
 départements de la Nouvelle-Aquitaine et de l’Occitanie 
 le 8 mai 2026. 
END:VEVENT
END:VCALENDAR